BEGIN:VCALENDAR
VERSION:2.0
PRODID:-//pretix//pretix.eu//
BEGIN:VTIMEZONE
TZID:Europe/Berlin
BEGIN:STANDARD
DTSTART:20001029T040000
RRULE:FREQ=YEARLY;BYDAY=-1SU;BYMONTH=10
TZNAME:CET
TZOFFSETFROM:+0200
TZOFFSETTO:+0100
END:STANDARD
BEGIN:DAYLIGHT
DTSTART:20000326T030000
RRULE:FREQ=YEARLY;BYDAY=-1SU;BYMONTH=3
TZNAME:CEST
TZOFFSETFROM:+0100
TZOFFSETTO:+0200
END:DAYLIGHT
END:VTIMEZONE
BEGIN:VEVENT
UID:pretix-mjb-GT25-0@get-together.mjb.berlin
DTSTART;TZID=Europe/Berlin:20251231T193000
DTEND;TZID=Europe/Berlin:20260101T010000
DESCRIPTION:Tickets: https://get-together.mjb.berlin/\nVeranstalter: Muslim
 ische Jugend Berlin e.V.
DTSTAMP:20260422T042658Z
LOCATION:Bilal Moschee
SUMMARY:Get Together 2025
END:VEVENT
END:VCALENDAR
